BEGIN:VCALENDAR
VERSION:2.0
PRODID:-//NATIONAL CAPITAL TEXAS A&amp;M CLUB - ECPv6.15.20//NONSGML v1.0//EN
CALSCALE:GREGORIAN
METHOD:PUBLISH
X-ORIGINAL-URL:https://dcaggies.org
X-WR-CALDESC:Events for NATIONAL CAPITAL TEXAS A&amp;M CLUB
REFRESH-INTERVAL;VALUE=DURATION:PT1H
X-Robots-Tag:noindex
X-PUBLISHED-TTL:PT1H
BEGIN:VTIMEZONE
TZID:UTC
BEGIN:STANDARD
TZOFFSETFROM:+0000
TZOFFSETTO:+0000
TZNAME:UTC
DTSTART:20220101T000000
END:STANDARD
END:VTIMEZONE
BEGIN:VEVENT
DTSTART;TZID=UTC:20230902T190000
DTEND;TZID=UTC:20230902T210000
DTSTAMP:20260425T234909
CREATED:20230314T002623Z
LAST-MODIFIED:20230829T235614Z
UID:239-1693681200-1693688400@dcaggies.org
SUMMARY:New Mexico v. Texas A&M Football Watch Party
DESCRIPTION:Come on out and join us this weekend to watch the Aggies BTHO of the Lobos on September 2nd at 7 PM!\nDuring the 2023 football season\, the DC Aggies Club will host two concurrent watch parties at Arlington Rooftop Bar & Grill in NOVA and at Hill Country BBQ in DC.
URL:https://dcaggies.org/event/new-mexico-v-texas-am-football-watch-party/
END:VEVENT
END:VCALENDAR