BEGIN:VCALENDAR
VERSION:2.0
PRODID:-//NATIONAL CAPITAL TEXAS A&amp;M CLUB - ECPv6.15.20//NONSGML v1.0//EN
CALSCALE:GREGORIAN
METHOD:PUBLISH
X-ORIGINAL-URL:https://dcaggies.org
X-WR-CALDESC:Events for NATIONAL CAPITAL TEXAS A&amp;M CLUB
REFRESH-INTERVAL;VALUE=DURATION:PT1H
X-Robots-Tag:noindex
X-PUBLISHED-TTL:PT1H
BEGIN:VTIMEZONE
TZID:UTC
BEGIN:STANDARD
TZOFFSETFROM:+0000
TZOFFSETTO:+0000
TZNAME:UTC
DTSTART:20240101T000000
END:STANDARD
END:VTIMEZONE
BEGIN:VEVENT
DTSTART;TZID=UTC:20250302T170000
DTEND;TZID=UTC:20250302T193000
DTSTAMP:20260424T155857
CREATED:20250223T053445Z
LAST-MODIFIED:20250223T053445Z
UID:13041-1740934800-1740943800@dcaggies.org
SUMMARY:Mays Business School MS-Finance Alumni Mixer
DESCRIPTION:All Aggies welcome. Hors d’oeuvres included.
URL:https://dcaggies.org/event/mays-business-school-ms-finance-alumni-mixer/
LOCATION:The Rooftop at the Graham\, 1075 Thomas Jefferson St. NW\, Washington D.C.\, 20007
END:VEVENT
END:VCALENDAR