BEGIN:VCALENDAR
VERSION:2.0
PRODID:-//NATIONAL CAPITAL TEXAS A&amp;M CLUB - ECPv6.15.20//NONSGML v1.0//EN
CALSCALE:GREGORIAN
METHOD:PUBLISH
X-ORIGINAL-URL:https://dcaggies.org
X-WR-CALDESC:Events for NATIONAL CAPITAL TEXAS A&amp;M CLUB
REFRESH-INTERVAL;VALUE=DURATION:PT1H
X-Robots-Tag:noindex
X-PUBLISHED-TTL:PT1H
BEGIN:VTIMEZONE
TZID:UTC
BEGIN:STANDARD
TZOFFSETFROM:+0000
TZOFFSETTO:+0000
TZNAME:UTC
DTSTART:20240101T000000
END:STANDARD
END:VTIMEZONE
BEGIN:VEVENT
DTSTART;TZID=UTC:20250412T080000
DTEND;TZID=UTC:20250412T190000
DTSTAMP:20260424T134313
CREATED:20250331T160425Z
LAST-MODIFIED:20250331T160425Z
UID:13057-1744444800-1744484400@dcaggies.org
SUMMARY:USS George H.W. Bush Carrier Tour
DESCRIPTION:Learn More & RSVP \nDeadline to register is Thursday\, April 9th at 11:59pm! \nCome on out for a day trip with DC Aggies to tour the USS George H.W. Bush at Naval Station Norfolk\, VA! We’re taking a bus from D.C. to Redwood Smoke Shack (One of the Best Texas BBQ Joints outside the state of Texas)\, after BBQ we will head to base for the tour\, and then return back to D.C. \nItinerary:\n8:00am Bus departs from 880 Army Navy Dr. parking lot\n11:00am Arrive at Redwood Smoke Shack (or you can get lunch elsewhere nearby)\n1:00pm Arrive at Naval Station Norfolk\n3:00pm Board bus to return home\n7:00pm Arrive at 880 Army Navy Dr. parking lot \nPricing: Click “Buy Tickets” to see pricing and packages. We have two options: Tour with BBQ and Tour without! \nIn order to get on base you will have to provide additional information for a background check. A Club officer will call you after you purchase tickets to obtain the additional information required.
URL:https://dcaggies.org/event/uss-george-h-w-bush-carrier-tour/
END:VEVENT
END:VCALENDAR