BEGIN:VCALENDAR
VERSION:2.0
PRODID:-//NATIONAL CAPITAL TEXAS A&amp;M CLUB - ECPv6.15.20//NONSGML v1.0//EN
CALSCALE:GREGORIAN
METHOD:PUBLISH
X-ORIGINAL-URL:https://dcaggies.org
X-WR-CALDESC:Events for NATIONAL CAPITAL TEXAS A&amp;M CLUB
REFRESH-INTERVAL;VALUE=DURATION:PT1H
X-Robots-Tag:noindex
X-PUBLISHED-TTL:PT1H
BEGIN:VTIMEZONE
TZID:UTC
BEGIN:STANDARD
TZOFFSETFROM:+0000
TZOFFSETTO:+0000
TZNAME:UTC
DTSTART:20240101T000000
END:STANDARD
END:VTIMEZONE
BEGIN:VEVENT
DTSTART;TZID=UTC:20250625T173000
DTEND;TZID=UTC:20250625T193000
DTSTAMP:20260424T092503
CREATED:20250608T183404Z
LAST-MODIFIED:20250608T183505Z
UID:13085-1750872600-1750879800@dcaggies.org
SUMMARY:Bush School Alumni & Intern Reception
DESCRIPTION:Open to all Bush School alumni\, including any alumni of the following programs: \n\nPolitical Science\nPublic Service and Administration\nInternational Affairs\nInternational Studies\nInternational Policy\nNational Security & Intelligence\n\nRSVP HERE \n 
URL:https://dcaggies.org/event/bush-school-alumni-intern-reception/
LOCATION:Bush School of Government and Public Service\, 1620 L St NW\, Washington\, DC\, 20003\, United States
END:VEVENT
END:VCALENDAR