BEGIN:VCALENDAR
VERSION:2.0
PRODID:-//NATIONAL CAPITAL TEXAS A&amp;M CLUB - ECPv6.15.20//NONSGML v1.0//EN
CALSCALE:GREGORIAN
METHOD:PUBLISH
X-ORIGINAL-URL:https://dcaggies.org
X-WR-CALDESC:Events for NATIONAL CAPITAL TEXAS A&amp;M CLUB
REFRESH-INTERVAL;VALUE=DURATION:PT1H
X-Robots-Tag:noindex
X-PUBLISHED-TTL:PT1H
BEGIN:VTIMEZONE
TZID:UTC
BEGIN:STANDARD
TZOFFSETFROM:+0000
TZOFFSETTO:+0000
TZNAME:UTC
DTSTART:20240101T000000
END:STANDARD
END:VTIMEZONE
BEGIN:VEVENT
DTSTART;TZID=UTC:20251004T000000
DTEND;TZID=UTC:20251004T235959
DTSTAMP:20260424T024348
CREATED:20250819T231716Z
LAST-MODIFIED:20250913T204541Z
UID:13130-1759536000-1759622399@dcaggies.org
SUMMARY:TAMU vs Mississippi State Watch Party (Throwback Night)
DESCRIPTION:D.C. Location: Proper 21\, 1319 F St. NW\, Washington D.C. \nNorthern Virginia Location: Highline RxR\, 2010 Crystal Dr.\, Arlington\, VA \nNIGHT Game
URL:https://dcaggies.org/event/tamu-vs-mississippi-state-watch-party/
END:VEVENT
END:VCALENDAR