BEGIN:VCALENDAR
VERSION:2.0
PRODID:-//NATIONAL CAPITAL TEXAS A&amp;M CLUB - ECPv6.15.20//NONSGML v1.0//EN
CALSCALE:GREGORIAN
METHOD:PUBLISH
X-WR-CALNAME:NATIONAL CAPITAL TEXAS A&amp;M CLUB
X-ORIGINAL-URL:https://dcaggies.org
X-WR-CALDESC:Events for NATIONAL CAPITAL TEXAS A&amp;M CLUB
REFRESH-INTERVAL;VALUE=DURATION:PT1H
X-Robots-Tag:noindex
X-PUBLISHED-TTL:PT1H
BEGIN:VTIMEZONE
TZID:UTC
BEGIN:STANDARD
TZOFFSETFROM:+0000
TZOFFSETTO:+0000
TZNAME:UTC
DTSTART:20240101T000000
END:STANDARD
END:VTIMEZONE
BEGIN:VEVENT
DTSTART;TZID=UTC:20251009T000000
DTEND;TZID=UTC:20251009T235959
DTSTAMP:20260424T024320
CREATED:20250608T183743Z
LAST-MODIFIED:20250608T183743Z
UID:13092-1759968000-1760054399@dcaggies.org
SUMMARY:October Hill Staff Happy Hour
DESCRIPTION:Save the date! Time and location information to come.
URL:https://dcaggies.org/event/october-hill-staff-happy-hour/
END:VEVENT
END:VCALENDAR