BEGIN:VCALENDAR
VERSION:2.0
PRODID:-//NATIONAL CAPITAL TEXAS A&amp;M CLUB - ECPv6.15.20//NONSGML v1.0//EN
CALSCALE:GREGORIAN
METHOD:PUBLISH
X-WR-CALNAME:NATIONAL CAPITAL TEXAS A&amp;M CLUB
X-ORIGINAL-URL:https://dcaggies.org
X-WR-CALDESC:Events for NATIONAL CAPITAL TEXAS A&amp;M CLUB
REFRESH-INTERVAL;VALUE=DURATION:PT1H
X-Robots-Tag:noindex
X-PUBLISHED-TTL:PT1H
BEGIN:VTIMEZONE
TZID:UTC
BEGIN:STANDARD
TZOFFSETFROM:+0000
TZOFFSETTO:+0000
TZNAME:UTC
DTSTART:20250101T000000
END:STANDARD
END:VTIMEZONE
BEGIN:VEVENT
DTSTART;TZID=UTC:20260308T180000
DTEND;TZID=UTC:20260308T200000
DTSTAMP:20260423T184757
CREATED:20260228T222751Z
LAST-MODIFIED:20260228T222751Z
UID:13238-1772992800-1773000000@dcaggies.org
SUMMARY:MSC Programs Stark Northeast Tour Reception
DESCRIPTION:MSC Programs is once again bringing a visiting delegation of students to four historic cities in the U.S. Northeast this March. In each city\, the tour will host networking receptions\, providing an opportunity for our Aggie formers to connect with 20-25 current Texas A&M upperclassmen. \nThese receptions are tailored for those who appreciate a 21+ setting and assisting current Aggies in building their network. Each event will have appetizers and complimentary non-alcoholic and alcoholic beverages. \nOur Event in Washington D.C. | Proper 21- K Street | 6-8 p.m. | Sun.\, March 8 \n\n\n\n\n\n\n\nRSVP (by March 4) https://nam02.safelinks.protection.outlook.com/?url=https%3A%2F%2Fdocs.google.com%2Fforms%2Fd%2Fe%2F1FAIpQLSdj8lqSVNFT37KYrDOnNYvIQgKeaAmc5Q9CFSgFbOwK3FIVCw%2Fviewform%3Fusp%3Dsharing%26ouid%3D107979714964989958684&data=05%7C02%7Cdmurray%40tamu.edu%7C2a5e95e502f84109ad4b08de6b4ffd93%7C68f381e346da47b9ba576f322b8f0da1%7C1%7C0%7C639066188464017048%7CUnknown%7CTWFpbGZsb3d8eyJFbXB0eU1hcGkiOnRydWUsIlYiOiIwLjAuMDAwMCIsIlAiOiJXaW4zMiIsIkFOIjoiTWFpbCIsIldUIjoyfQ%3D%3D%7C0%7C%7C%7C&sdata=TCS5ID5VuGTI%2FL%2BGQkLap4rz6uCw4YPU7KWE1dVQs0Q%3D&reserved=0\n\n\n\n\n\n\n\n 
URL:https://dcaggies.org/event/msc-programs-stark-northeast-tour-reception/
LOCATION:Proper 21 (K St)\, 2033 K St NW\, Washington\, DC\, 20006\, United States
END:VEVENT
END:VCALENDAR