BEGIN:VCALENDAR
VERSION:2.0
PRODID:-//NATIONAL CAPITAL TEXAS A&amp;M CLUB - ECPv6.15.20//NONSGML v1.0//EN
CALSCALE:GREGORIAN
METHOD:PUBLISH
X-WR-CALNAME:NATIONAL CAPITAL TEXAS A&amp;M CLUB
X-ORIGINAL-URL:https://dcaggies.org
X-WR-CALDESC:Events for NATIONAL CAPITAL TEXAS A&amp;M CLUB
REFRESH-INTERVAL;VALUE=DURATION:PT1H
X-Robots-Tag:noindex
X-PUBLISHED-TTL:PT1H
BEGIN:VTIMEZONE
TZID:UTC
BEGIN:STANDARD
TZOFFSETFROM:+0000
TZOFFSETTO:+0000
TZNAME:UTC
DTSTART:20250101T000000
END:STANDARD
END:VTIMEZONE
BEGIN:VEVENT
DTSTART;TZID=UTC:20260327T173000
DTEND;TZID=UTC:20260327T190000
DTSTAMP:20260423T184859
CREATED:20260321T185052Z
LAST-MODIFIED:20260327T112228Z
UID:13300-1774632600-1774638000@dcaggies.org
SUMMARY:Monthly Happy Hour
DESCRIPTION:Looking to network\, swap stories about Northgate\, or simply find someone who understands the importance of a “Whoop”? Join us for our Monthly Happy Hour. These last-Friday-of-the-month gatherings are the heartbeat of our local community—relaxed\, welcoming\, and the perfect way to recharge your Aggie spirit; the next happy hour will be on Friday\, March 27\, 5:30pm at Highline RxR in Crystal City.
URL:https://dcaggies.org/event/monthly-happy-hour/
LOCATION:Highline RxR\, 2010 Crystal Drive\, Arlington\, VA\, 22202\, United States
END:VEVENT
END:VCALENDAR