BEGIN:VCALENDAR
VERSION:2.0
PRODID:-//NATIONAL CAPITAL TEXAS A&amp;M CLUB - ECPv6.15.20//NONSGML v1.0//EN
CALSCALE:GREGORIAN
METHOD:PUBLISH
X-WR-CALNAME:NATIONAL CAPITAL TEXAS A&amp;M CLUB
X-ORIGINAL-URL:https://dcaggies.org
X-WR-CALDESC:Events for NATIONAL CAPITAL TEXAS A&amp;M CLUB
REFRESH-INTERVAL;VALUE=DURATION:PT1H
X-Robots-Tag:noindex
X-PUBLISHED-TTL:PT1H
BEGIN:VTIMEZONE
TZID:UTC
BEGIN:STANDARD
TZOFFSETFROM:+0000
TZOFFSETTO:+0000
TZNAME:UTC
DTSTART:20220101T000000
END:STANDARD
END:VTIMEZONE
BEGIN:VEVENT
DTSTART;TZID=UTC:20240501T180000
DTEND;TZID=UTC:20240501T200000
DTSTAMP:20260425T133125
CREATED:20240427T213216Z
LAST-MODIFIED:20240427T213216Z
UID:12952-1714586400-1714593600@dcaggies.org
SUMMARY:Master of Engineering Technical Management Informational Dinner
DESCRIPTION:Join the College of Engineering for an evening informational dinner covering their online master’s degree in Technical Management. \nClick here to RSVP.
URL:https://dcaggies.org/event/master-of-engineering-technical-management-informational-dinner/
LOCATION:Bush School of Government and Public Service\, 1620 L St NW\, Washington\, DC\, 20003\, United States
END:VEVENT
BEGIN:VEVENT
DTSTART;TZID=UTC:20240426T180000
DTEND;TZID=UTC:20240426T200000
DTSTAMP:20260425T133125
CREATED:20240330T232101Z
LAST-MODIFIED:20240330T232101Z
UID:12894-1714154400-1714161600@dcaggies.org
SUMMARY:April Happy Hour
DESCRIPTION:
URL:https://dcaggies.org/event/april-happy-hour/
LOCATION:Walter’s Sports Bar & Restaurant\, 10 N St. SE\, Washington\, DC\, 20003
END:VEVENT
BEGIN:VEVENT
DTSTART;TZID=UTC:20240421T170000
DTEND;TZID=UTC:20240421T210000
DTSTAMP:20260425T133125
CREATED:20240421T151710Z
LAST-MODIFIED:20240421T151817Z
UID:12938-1713718800-1713733200@dcaggies.org
SUMMARY:2024 Muster Ceremony
DESCRIPTION:Tickets are still available! Click here to purchase. 
URL:https://dcaggies.org/event/2024-muster-ceremony/
LOCATION:George Washington Masonic National Memorial\, 101 Callahan Dr\, Alexandria\, VA\, 22301\, United States
END:VEVENT
BEGIN:VEVENT
DTSTART;TZID=UTC:20240413T180000
DTEND;TZID=UTC:20240413T200000
DTSTAMP:20260425T133126
CREATED:20240331T000059Z
LAST-MODIFIED:20240331T000355Z
UID:12922-1713031200-1713038400@dcaggies.org
SUMMARY:Happy Hour with Traveling Aggies
DESCRIPTION:DC Aggies is very proud to have the opportunity to give Traveling Aggies a warm Aggie welcome to the District on Saturday\, April 13th. Visiting from Texas to see the world famous cherry blossoms\, Traveling Aggies will be in town for one week and we invite you to come out and say hello!
URL:https://dcaggies.org/event/happy-hour-with-travelling-aggies/
LOCATION:Gaylord National Harbor-Belvedere Lobby Bar\, 201 Waterfront St.\, Oxon Hill\, Maryland\, 20745
END:VEVENT
BEGIN:VEVENT
DTSTART;TZID=UTC:20240329T180000
DTEND;TZID=UTC:20240329T200000
DTSTAMP:20260425T133126
CREATED:20240310T215200Z
LAST-MODIFIED:20240310T215200Z
UID:12829-1711735200-1711742400@dcaggies.org
SUMMARY:March Happy Hour
DESCRIPTION:Join fellow DC Aggies for Friday fun at 6pm at Royal Sands Social Club.
URL:https://dcaggies.org/event/march-happy-hour/
LOCATION:Royal Sands Social Club\, 26 N St. SE\, Washington\, DC\, 20003
END:VEVENT
BEGIN:VEVENT
DTSTART;TZID=UTC:20240324T130000
DTEND;TZID=UTC:20240324T150000
DTSTAMP:20260425T133126
CREATED:20240310T214828Z
LAST-MODIFIED:20240310T214828Z
UID:12824-1711285200-1711292400@dcaggies.org
SUMMARY:DC Aggies Big Event
DESCRIPTION:Join us in the Aggie spirit of selfless service to help clean up Oxon Cove Park! Supplies will be provided. We recommend wearing Texas A&M apparel you don’t mind getting dirty and bringing a water bottle. Sign-up here.
URL:https://dcaggies.org/event/dc-aggies-big-event/
LOCATION:Oxon Cove Park\, 6411 Oxon Hill Road\, Oxon Hill\, MD\, 20745
END:VEVENT
BEGIN:VEVENT
DTSTART;TZID=UTC:20240315T183000
DTEND;TZID=UTC:20240315T203000
DTSTAMP:20260425T133126
CREATED:20240310T214212Z
LAST-MODIFIED:20240310T214212Z
UID:12820-1710527400-1710534600@dcaggies.org
SUMMARY:Texas A&M vs Florida Baseball Watch Party
DESCRIPTION:Join us for our first baseball watch party of the 2024 season at 6:30pm at Walter’s Sports Bar.
URL:https://dcaggies.org/event/texas-am-vs-florida-baseball-watch-party/
LOCATION:Walter’s Sports Bar\, 10 N St. SE\, Washington\, DC\, 20003
END:VEVENT
BEGIN:VEVENT
DTSTART;TZID=UTC:20231125T000000
DTEND;TZID=UTC:20231125T235959
DTSTAMP:20260425T133126
CREATED:20230314T010812Z
LAST-MODIFIED:20230829T234833Z
UID:265-1700870400-1700956799@dcaggies.org
SUMMARY:LSU v. Texas A&M Football Watch Party
DESCRIPTION:During the 2023 football season\, the DC Aggies Club will host two concurrent watch parties at Arlington Rooftop Bar & Grill in NOVA and at Hill Country BBQ in DC.
URL:https://dcaggies.org/event/lsu-v-texas-am-football-watch-party/
END:VEVENT
BEGIN:VEVENT
DTSTART;TZID=UTC:20231118T000000
DTEND;TZID=UTC:20231118T235959
DTSTAMP:20260425T133126
CREATED:20230314T010746Z
LAST-MODIFIED:20230829T234852Z
UID:263-1700265600-1700351999@dcaggies.org
SUMMARY:ACU v. Texas A&M Football Watch Party
DESCRIPTION:During the 2023 football season\, the DC Aggies Club will host two concurrent watch parties at Arlington Rooftop Bar & Grill in NOVA and at Hill Country BBQ in DC.
URL:https://dcaggies.org/event/acu-v-texas-am-football-watch-party/
END:VEVENT
BEGIN:VEVENT
DTSTART;TZID=UTC:20231111T000000
DTEND;TZID=UTC:20231111T235959
DTSTAMP:20260425T133126
CREATED:20230314T010707Z
LAST-MODIFIED:20230829T234906Z
UID:261-1699660800-1699747199@dcaggies.org
SUMMARY:Mississippi State v. Texas A&M Football Watch Party
DESCRIPTION:During the 2023 football season\, the DC Aggies Club will host two concurrent watch parties at Arlington Rooftop Bar & Grill in NOVA and at Hill Country BBQ in DC.
URL:https://dcaggies.org/event/mississippi-state-v-texas-am-football-watch-party/
END:VEVENT
BEGIN:VEVENT
DTSTART;TZID=UTC:20231104T000000
DTEND;TZID=UTC:20231104T235959
DTSTAMP:20260425T133126
CREATED:20230314T010504Z
LAST-MODIFIED:20230829T234918Z
UID:256-1699056000-1699142399@dcaggies.org
SUMMARY:Ole Miss v. Texas A&M Football Watch Party
DESCRIPTION:During the 2023 football season\, the DC Aggies Club will host two concurrent watch parties at Arlington Rooftop Bar & Grill in NOVA and at Hill Country BBQ in DC.
URL:https://dcaggies.org/event/south-carolina-v-texas-am-football-watch-party/
END:VEVENT
BEGIN:VEVENT
DTSTART;TZID=UTC:20231028T000000
DTEND;TZID=UTC:20231028T235959
DTSTAMP:20260425T133126
CREATED:20230314T010604Z
LAST-MODIFIED:20230829T234934Z
UID:259-1698451200-1698537599@dcaggies.org
SUMMARY:South Carolina v. Texas A&M Football Watch Party
DESCRIPTION:During the 2023 football season\, the DC Aggies Club will host two concurrent watch parties at Arlington Rooftop Bar & Grill in NOVA and at Hill Country BBQ in DC.
URL:https://dcaggies.org/event/south-carolina-v-texas-am-football-watch-party-2/
END:VEVENT
BEGIN:VEVENT
DTSTART;TZID=UTC:20231024T080000
DTEND;TZID=UTC:20231024T090000
DTSTAMP:20260425T133126
CREATED:20231002T235008Z
LAST-MODIFIED:20231002T235008Z
UID:355-1698134400-1698138000@dcaggies.org
SUMMARY:DC Aggies Club Networking Breakfast
DESCRIPTION:We are thrilled to announce our inaugural DC Aggies Networking Breakfast in collaboration with the Bush School of Government & Public Service located in Washington\, DC. This will be the first of many chances to socialize\, network\, or just hang out and meet fellow Ags in the area before the work day begins!\n\nDon’t miss this upcoming event. Attire is business casual and a continental breakfast will be available. This event is free of charge.
URL:https://dcaggies.org/event/dc-aggies-club-networking-breakfast/
LOCATION:Bush School of Government and Public Service\, 1620 L St NW\, Washington\, DC\, 20003\, United States
END:VEVENT
BEGIN:VEVENT
DTSTART;TZID=UTC:20231021T000000
DTEND;TZID=UTC:20231021T235959
DTSTAMP:20260425T133126
CREATED:20230314T002003Z
LAST-MODIFIED:20231002T234752Z
UID:235-1697846400-1697932799@dcaggies.org
SUMMARY:DC Aggies Fall Winery Tour
DESCRIPTION:It’s time for the annual fall DC Aggies Winery Trip! On October 21st\, we are taking a trip to Fleetwood Farm Winery in Virginia. Join us for an amazing winery experience as we explore a hand-picked selection of exquisite local wines from Virginia. \nThe winery has food and bottles of wine to buy and enjoy. We just need you to join us for wine tastings\, fall food\, good company\, great weather\, and photo opportunities! \n10:00 AM: Board the bus at 880 Army Navy Drive\n10:30 AM: Bus leaves\n11:30 AM: Arrive at Fleetwood Farm Winery\n2:00 PM: Depart Fleetwood Farm Winery \nBUY TICKETS HERE: https://www.tickettailor.com/events/nationalcapitaltexasamclub/1020445?fbclid=IwAR1MhTwCfdRqvK5WnVE-l9tJrnF0jWczKOFX8BHuDh0RwY1ULGWlbQ_G7lc \n 
URL:https://dcaggies.org/event/dc-aggies-fall-winery-tour/
LOCATION:Fleetwood Farm Winery\, 23075 Evergreen Mills Rd\, Leesburg\, VA\, 20175\, United States
END:VEVENT
BEGIN:VEVENT
DTSTART;TZID=UTC:20231014T000000
DTEND;TZID=UTC:20231014T235959
DTSTAMP:20260425T133126
CREATED:20230314T010240Z
LAST-MODIFIED:20230829T235001Z
UID:254-1697241600-1697327999@dcaggies.org
SUMMARY:Tennessee v. Texas A&M Football Watch Party
DESCRIPTION:During the 2023 football season\, the DC Aggies Club will host two concurrent watch parties at Arlington Rooftop Bar & Grill in NOVA and at Hill Country BBQ in DC.
URL:https://dcaggies.org/event/tennessee-v-texas-am-football-watch-party/
END:VEVENT
BEGIN:VEVENT
DTSTART;TZID=UTC:20231007T000000
DTEND;TZID=UTC:20231007T235959
DTSTAMP:20260425T133126
CREATED:20230314T010215Z
LAST-MODIFIED:20230829T235020Z
UID:252-1696636800-1696723199@dcaggies.org
SUMMARY:Alabama v. Texas A&M Football Watch Party
DESCRIPTION:During the 2023 football season\, the DC Aggies Club will host two concurrent watch parties at Arlington Rooftop Bar & Grill in NOVA and at Hill Country BBQ in DC.
URL:https://dcaggies.org/event/alabama-v-texas-am-football-watch-party/
END:VEVENT
BEGIN:VEVENT
DTSTART;TZID=UTC:20230930T000000
DTEND;TZID=UTC:20230930T235959
DTSTAMP:20260425T133126
CREATED:20230314T010147Z
LAST-MODIFIED:20230829T235039Z
UID:250-1696032000-1696118399@dcaggies.org
SUMMARY:Arkansas v. Texas A&M Football Watch Party
DESCRIPTION:During the 2023 football season\, the DC Aggies Club will host two concurrent watch parties at Arlington Rooftop Bar & Grill in NOVA and at Hill Country BBQ in DC.
URL:https://dcaggies.org/event/arkansas-v-texas-am-football-watch-party/
END:VEVENT
BEGIN:VEVENT
DTSTART;TZID=UTC:20230923T000000
DTEND;TZID=UTC:20230923T235959
DTSTAMP:20260425T133126
CREATED:20230314T010039Z
LAST-MODIFIED:20230829T235053Z
UID:248-1695427200-1695513599@dcaggies.org
SUMMARY:Auburn v. Texas A&M Football Watch Party
DESCRIPTION:During the 2023 football season\, the DC Aggies Club will host two concurrent watch parties at Arlington Rooftop Bar & Grill in NOVA and at Hill Country BBQ in DC.
URL:https://dcaggies.org/event/auburn-v-texas-am-football-watch-party/
END:VEVENT
BEGIN:VEVENT
DTSTART;TZID=UTC:20230916T160000
DTEND;TZID=UTC:20230916T190000
DTSTAMP:20260425T133126
CREATED:20230314T010012Z
LAST-MODIFIED:20230829T235513Z
UID:246-1694880000-1694890800@dcaggies.org
SUMMARY:LA Monroe v. Texas A&M Football Watch Party
DESCRIPTION:Come on out and join us this weekend to watch the Aggies BTHO of LA-Monroe on September 16th at 4 PM!\nDuring the 2023 football season\, the DC Aggies Club will host two concurrent watch parties at Arlington Rooftop Bar & Grill in NOVA and at Hill Country BBQ in DC.
URL:https://dcaggies.org/event/la-monroe-v-texas-am-football-watch-party/
END:VEVENT
BEGIN:VEVENT
DTSTART;TZID=UTC:20230909T153000
DTEND;TZID=UTC:20230909T183000
DTSTAMP:20260425T133126
CREATED:20230314T002720Z
LAST-MODIFIED:20230829T235235Z
UID:241-1694273400-1694284200@dcaggies.org
SUMMARY:Miami v. Texas A&M Football Watch Party
DESCRIPTION:Come on out and join us this weekend to watch the Aggies BTHO of U Miami on September 9th at 3:30 PM!\nDuring the 2023 football season\, the DC Aggies Club will host two concurrent watch parties at Arlington Rooftop Bar & Grill in NOVA and at Hill Country BBQ in DC.
URL:https://dcaggies.org/event/miami-v-texas-am-football-watch-party/
END:VEVENT
BEGIN:VEVENT
DTSTART;TZID=UTC:20230902T190000
DTEND;TZID=UTC:20230902T210000
DTSTAMP:20260425T133126
CREATED:20230314T002623Z
LAST-MODIFIED:20230829T235614Z
UID:239-1693681200-1693688400@dcaggies.org
SUMMARY:New Mexico v. Texas A&M Football Watch Party
DESCRIPTION:Come on out and join us this weekend to watch the Aggies BTHO of the Lobos on September 2nd at 7 PM!\nDuring the 2023 football season\, the DC Aggies Club will host two concurrent watch parties at Arlington Rooftop Bar & Grill in NOVA and at Hill Country BBQ in DC.
URL:https://dcaggies.org/event/new-mexico-v-texas-am-football-watch-party/
END:VEVENT
BEGIN:VEVENT
DTSTART;TZID=UTC:20230827T000000
DTEND;TZID=UTC:20230827T235959
DTSTAMP:20260425T133126
CREATED:20230615T030648Z
LAST-MODIFIED:20230615T030648Z
UID:317-1693094400-1693180799@dcaggies.org
SUMMARY:Texas State Society Tailgate Kickoff Party
DESCRIPTION:
URL:https://dcaggies.org/event/texas-state-society-tailgate-kickoff-party/
LOCATION:The Brig\, 1007 8th St SE #1\, Washington\, DC\, 20003\, United States
END:VEVENT
BEGIN:VEVENT
DTSTART;TZID=UTC:20230819T080000
DTEND;TZID=UTC:20230819T170000
DTSTAMP:20260425T133126
CREATED:20230314T001850Z
LAST-MODIFIED:20230802T025344Z
UID:232-1692432000-1692464400@dcaggies.org
SUMMARY:DC Aggies Summer Float Trip
DESCRIPTION:On Saturday\, August 19\, the DC Aggies are ready to gear up again for our annual float trip down the Shenandoah River! We’re heading to Front Royal Outdoors\, and we’ve arranged for bus transportation to get you there and back\, safe and sound.\nPurchase your tickets at the Eventbrite link here: https://www.eventbrite.com/…/dc-aggies-tubing-trip-2023…\n________\nDAY-OF TRAVEL:\nThose who opt to take the bus will meet at 8:30 AM at 880 Army Navy Dr. Arlington\, VA 22202.\nWe will take the bus to Front Royal Outdoors.\nOur goal is to return to the parking lot where we met in the morning by around 5 PM.\nIf you are driving yourself\, meet us at Front Royal Outdoors (8567 Stonewall Jackson Hwy\, Front Royal\, VA 22630) on Saturday morning.\n________\nIMPORTANT NOTES:\nCoolers will NOT be provided by Front Royal Outdoors. You will need to bring your own cooler to hold your food and drinks. A medium size cooler is recommended.\nCoolers are allowed on the river\, but not styrofoam or glass containers\, and no flip-flops (shoes must have at least a strap).\nFor more information and details on what to bring on the trip\, visit this website.\nAlcohol is allowed on the trip. However\, consumption must be done while floating the river. DO NOT drink at Front Royal Outdoors or at the launch site. There are Deputies watching.\n________\nLocation: 8567 Stonewall Jackson Highway\, Front Royal\, VA 22630\n\n\n\n\n\n\n\n\n\n\n\n\n 
URL:https://dcaggies.org/event/dc-aggies-summer-tubing-trip/
END:VEVENT
BEGIN:VEVENT
DTSTART;TZID=UTC:20230817T180000
DTEND;TZID=UTC:20230817T210000
DTSTAMP:20260425T133126
CREATED:20230731T234809Z
LAST-MODIFIED:20230731T234809Z
UID:330-1692295200-1692306000@dcaggies.org
SUMMARY:DC Aggies August Happy Hour
DESCRIPTION:Come on out to our DC Aggies August Happy Hour and enjoy a good time in NOVA with fellow Ags and a fun special menu meant for us! We’ll see you on Thursday\, August 17th at 6pm at Arlington Rooftop Bar & Grill. Whoop!
URL:https://dcaggies.org/event/dc-aggies-august-happy-hour/
LOCATION:Arlington Rooftop Bar & Grill\, 2424 Wilson Blvd\, Arlington\, VA\, 22201\, United States
END:VEVENT
BEGIN:VEVENT
DTSTART;TZID=UTC:20230727T173000
DTEND;TZID=UTC:20230727T190000
DTSTAMP:20260425T133126
CREATED:20230717T235950Z
LAST-MODIFIED:20230718T002329Z
UID:324-1690479000-1690484400@dcaggies.org
SUMMARY:Aggie Intern Summer Send-Off
DESCRIPTION:Join the DC Aggies Club on Thursday\, July 27 at 5:30-7 PM at Bullfeathers on the Hill (410 First St SE) to say THANK YOU and GOOD LUCK to our hardworking summer cohort of Aggie interns before they head back to school in August! Appetizers will be provided on a first-come\, first-serve basis to attendees. 
URL:https://dcaggies.org/event/aggie-intern-summer-send-off/
LOCATION:Bullfeathers\, 410 First St SE\, Washington\, DC\, 20003\, United States
END:VEVENT
BEGIN:VEVENT
DTSTART;TZID=UTC:20230621T180000
DTEND;TZID=UTC:20230621T200000
DTSTAMP:20260425T133126
CREATED:20230615T030436Z
LAST-MODIFIED:20230615T030436Z
UID:314-1687370400-1687377600@dcaggies.org
SUMMARY:DC Aggies Summer Networking Happy Hour
DESCRIPTION:Wednesday\, June 21st\n6 PM\nPenn Quarter Sports Tavern\nJoin the DC Aggies Club 6 PM on Wednesday\, June 21st\, at Penn Quarter Sports Tavern for another fun summertime networking opportunity to meet new Ags\, catch up with old friends\, and help our summer cohort of Aggie interns get acquainted with the DMV. We can’t wait to see you there!
URL:https://dcaggies.org/event/dc-aggies-summer-networking-happy-hour/
LOCATION:Penn Quarter Sports Tavern\, 639 Indiana Ave NW\, Washington\, DC\, DC\, 20004\, United States
END:VEVENT
BEGIN:VEVENT
DTSTART;TZID=UTC:20230610T000000
DTEND;TZID=UTC:20230610T235959
DTSTAMP:20260425T133126
CREATED:20230314T013116Z
LAST-MODIFIED:20230314T013116Z
UID:271-1686355200-1686441599@dcaggies.org
SUMMARY:Aggie Summer BBQ
DESCRIPTION:
URL:https://dcaggies.org/event/aggie-summer-bbq/
END:VEVENT
BEGIN:VEVENT
DTSTART;TZID=UTC:20230609T180000
DTEND;TZID=UTC:20230609T210000
DTSTAMP:20260425T133126
CREATED:20230604T183240Z
LAST-MODIFIED:20230604T183240Z
UID:303-1686333600-1686344400@dcaggies.org
SUMMARY:June DC Aggies Happy Hour
DESCRIPTION:June 9\, 2023\n6-9 PM\nAtlas Brew Works\, Navy Yard
URL:https://dcaggies.org/event/june-dc-aggies-happy-hour/
LOCATION:Atlas Brew Works\, 1201 Half St Ste 120\, Washington\, DC\, 200003\, United States
END:VEVENT
BEGIN:VEVENT
DTSTART;TZID=UTC:20230421T000000
DTEND;TZID=UTC:20230421T235959
DTSTAMP:20260425T133126
CREATED:20230314T002225Z
LAST-MODIFIED:20230314T002225Z
UID:237-1682035200-1682121599@dcaggies.org
SUMMARY:Softball Season Begins
DESCRIPTION:Join the DC Aggies softball team! Contact dcaggiesactivities@gmail.com for more information on how to get involved.
URL:https://dcaggies.org/event/softball-season-begins/
END:VEVENT
BEGIN:VEVENT
DTSTART;TZID=UTC:20230421T000000
DTEND;TZID=UTC:20230421T235959
DTSTAMP:20260425T133126
CREATED:20230208T232713Z
LAST-MODIFIED:20230306T031710Z
UID:178-1682035200-1682121599@dcaggies.org
SUMMARY:DC Aggies 2023 Muster
DESCRIPTION:April 21st\n6 PM Camaraderie BBQ\n7:30 PM Ceremony Start\nThe George Washington Masonic National Memorial\n\n101 Callahan Dr\, Alexandria\, VA 22301\n\n\nBuy tickets HERE.
URL:https://dcaggies.org/event/dc-aggies-2023-muster/
LOCATION:George Washington Masonic National Memorial\, 101 Callahan Dr\, Alexandria\, VA\, 22301\, United States
END:VEVENT
END:VCALENDAR