BEGIN:VCALENDAR
VERSION:2.0
PRODID:-//NATIONAL CAPITAL TEXAS A&amp;M CLUB - ECPv6.15.20//NONSGML v1.0//EN
CALSCALE:GREGORIAN
METHOD:PUBLISH
X-WR-CALNAME:NATIONAL CAPITAL TEXAS A&amp;M CLUB
X-ORIGINAL-URL:https://dcaggies.org
X-WR-CALDESC:Events for NATIONAL CAPITAL TEXAS A&amp;M CLUB
REFRESH-INTERVAL;VALUE=DURATION:PT1H
X-Robots-Tag:noindex
X-PUBLISHED-TTL:PT1H
BEGIN:VTIMEZONE
TZID:UTC
BEGIN:STANDARD
TZOFFSETFROM:+0000
TZOFFSETTO:+0000
TZNAME:UTC
DTSTART:20230101T000000
END:STANDARD
END:VTIMEZONE
BEGIN:VEVENT
DTSTART;TZID=UTC:20250917T173000
DTEND;TZID=UTC:20250917T193000
DTSTAMP:20260423T235556
CREATED:20250905T001753Z
LAST-MODIFIED:20250905T002300Z
UID:13187-1758130200-1758137400@dcaggies.org
SUMMARY:Texas A&M Advocacy Network Reception
DESCRIPTION:Hosted by the Texas A&M Advocacy Network. \nJoin us for a reception in HVC-200 for former students\, current students and friends of Texas A&M University! \n 
URL:https://dcaggies.org/event/texas-am-advocacy-network-reception/
LOCATION:U.S. Capitol Visitor Center\, HVC 200\, Washington D.C.\, 20004
END:VEVENT
BEGIN:VEVENT
DTSTART;TZID=UTC:20250914T130000
DTEND;TZID=UTC:20250914T170000
DTSTAMP:20260423T235556
CREATED:20250819T235225Z
LAST-MODIFIED:20250819T235320Z
UID:13154-1757854800-1757869200@dcaggies.org
SUMMARY:Texas Tailgate Kickoff with the Texas State Society
DESCRIPTION:
URL:https://dcaggies.org/event/texas-tailgate-kickoff-with-the-texas-state-society/
END:VEVENT
BEGIN:VEVENT
DTSTART;TZID=UTC:20250913T193000
DTEND;TZID=UTC:20250913T223000
DTSTAMP:20260423T235556
CREATED:20250819T230551Z
LAST-MODIFIED:20250913T204612Z
UID:13126-1757791800-1757802600@dcaggies.org
SUMMARY:TAMU at Notre Dame Watch Party (Maroon Out)
DESCRIPTION:D.C. Location: Proper 21\, 1319 F St. NW\, Washington D.C. \nNorthern Virginia Location: Highline RxR\, 2010 Crystal Dr.\, Arlington\, VA \nMaroon Out! Wear your best maroon Aggie gear.
URL:https://dcaggies.org/event/tamu-at-notre-dame-watch-party/
END:VEVENT
BEGIN:VEVENT
DTSTART;TZID=UTC:20250906T124500
DTEND;TZID=UTC:20250906T154500
DTSTAMP:20260423T235556
CREATED:20250819T230112Z
LAST-MODIFIED:20250913T204630Z
UID:13122-1757162700-1757173500@dcaggies.org
SUMMARY:TAMU vs Utah State Watch Party (Family Day)
DESCRIPTION:D.C. Location: Proper 21\, 1319 F St. NW\, Washington D.C. \nNorthern Virginia Location: Highline RxR\, 2010 Crystal Dr.\, Arlington\, VA \n 
URL:https://dcaggies.org/event/tamu-vs-utah-state/
END:VEVENT
BEGIN:VEVENT
DTSTART;TZID=UTC:20250903T000000
DTEND;TZID=UTC:20250903T235959
DTSTAMP:20260423T235556
CREATED:20250608T183707Z
LAST-MODIFIED:20250608T183707Z
UID:13090-1756857600-1756943999@dcaggies.org
SUMMARY:September Hill Staff Happy Hour
DESCRIPTION:Save the date! Time and location information to come.
URL:https://dcaggies.org/event/september-hill-staff-happy-hour/
END:VEVENT
BEGIN:VEVENT
DTSTART;TZID=UTC:20250830T190000
DTEND;TZID=UTC:20250830T220000
DTSTAMP:20260423T235556
CREATED:20250819T225639Z
LAST-MODIFIED:20250913T204648Z
UID:13118-1756580400-1756591200@dcaggies.org
SUMMARY:TAMU vs UTSA Watch Party (Season Kickoff)
DESCRIPTION:D.C. Location: Proper 21\, 1319 F St. NW\, Washington D.C. \nNorthern Virginia Location: Highline RxR\, 2010 Crystal Dr.\, Arlington\, VA \n 
URL:https://dcaggies.org/event/tamu-vs-utsa-watch-party/
END:VEVENT
BEGIN:VEVENT
DTSTART;TZID=UTC:20250829T180000
DTEND;TZID=UTC:20250829T210000
DTSTAMP:20260423T235556
CREATED:20250819T235558Z
LAST-MODIFIED:20250819T235643Z
UID:13158-1756490400-1756501200@dcaggies.org
SUMMARY:SEC Kickoff Tailgate
DESCRIPTION:
URL:https://dcaggies.org/event/sec-kickoff-tailgate/
LOCATION:Franklin Hall\, 1348 Florida Ave. NW\, Washington\, DC\, 20009
END:VEVENT
BEGIN:VEVENT
DTSTART;TZID=UTC:20250819T080000
DTEND;TZID=UTC:20250819T170000
DTSTAMP:20260423T235556
CREATED:20250819T233205Z
LAST-MODIFIED:20250826T005524Z
UID:13144-1755590400-1755622800@dcaggies.org
SUMMARY:TAMU vs South Carolina Watch Party
DESCRIPTION:D.C. Location: Proper 21\, 1319 F St. NW\, Washington D.C. \nNorthern Virginia Location: Highline RxR\, 2010 Crystal Dr.\, Arlington\, VA \nDownload our 2025 DCTAMC AGGIE FOOTBALL watch party calendar!
URL:https://dcaggies.org/event/tamu-vs-south-carolina-watch-party-2/
END:VEVENT
BEGIN:VEVENT
DTSTART;TZID=UTC:20250709T000000
DTEND;TZID=UTC:20250709T235959
DTSTAMP:20260423T235556
CREATED:20250608T183612Z
LAST-MODIFIED:20250608T183612Z
UID:13088-1752019200-1752105599@dcaggies.org
SUMMARY:July Hill Staff Happy Hour
DESCRIPTION:Save the date! Time and location information to come.
URL:https://dcaggies.org/event/july-hill-staff-happy-hour/
END:VEVENT
BEGIN:VEVENT
DTSTART;TZID=UTC:20250625T173000
DTEND;TZID=UTC:20250625T193000
DTSTAMP:20260423T235556
CREATED:20250608T183404Z
LAST-MODIFIED:20250608T183505Z
UID:13085-1750872600-1750879800@dcaggies.org
SUMMARY:Bush School Alumni & Intern Reception
DESCRIPTION:Open to all Bush School alumni\, including any alumni of the following programs: \n\nPolitical Science\nPublic Service and Administration\nInternational Affairs\nInternational Studies\nInternational Policy\nNational Security & Intelligence\n\nRSVP HERE \n 
URL:https://dcaggies.org/event/bush-school-alumni-intern-reception/
LOCATION:Bush School of Government and Public Service\, 1620 L St NW\, Washington\, DC\, 20003\, United States
END:VEVENT
BEGIN:VEVENT
DTSTART;TZID=UTC:20250621T000000
DTEND;TZID=UTC:20250621T235959
DTSTAMP:20260423T235556
CREATED:20250518T013101Z
LAST-MODIFIED:20250608T183021Z
UID:13082-1750464000-1750550399@dcaggies.org
SUMMARY:Summer Float Trip
DESCRIPTION:Howdy Ags! Join us in Front Royal for our annual Summer Float Trip on June 21st! \nNeed a ride? We’ll meet in Pentagon City at 8:30am at 880 Army Navy Drive to take a bus to Front Royal. \nWe recommend bringing a light lunch in air-tight containers to eat mid-way through the float. \nBUY TICKETS \nAny questions? Email dcaggiesactivities@gmail.com.  \n 
URL:https://dcaggies.org/event/summer-float-trip/
END:VEVENT
BEGIN:VEVENT
DTSTART;TZID=UTC:20250606T184500
DTEND;TZID=UTC:20250606T203000
DTSTAMP:20260423T235556
CREATED:20250518T012634Z
LAST-MODIFIED:20250518T012634Z
UID:13080-1749235500-1749241800@dcaggies.org
SUMMARY:Rangers vs. Nationals
DESCRIPTION:Purchase any ticket for the Friday\, June 6 game vs the Texas Rangers at mlb.com/nationals/tickets/single-game-tickets. \nMeet-up with the D.C. Aggies at the top of the ULTRA Loft. 
URL:https://dcaggies.org/event/rangers-vs-nationals/
LOCATION:Nationals Stadium Ballpark\, 1500 South Capitol Street SE\, Washington D.C.\, 20003
END:VEVENT
BEGIN:VEVENT
DTSTART;TZID=UTC:20250603T180000
DTEND;TZID=UTC:20250603T200000
DTSTAMP:20260423T235556
CREATED:20250518T012356Z
LAST-MODIFIED:20250518T012356Z
UID:13078-1748973600-1748980800@dcaggies.org
SUMMARY:Summer Welcome & Networking Event
DESCRIPTION:Time subject to change. Check back or follow us @DCAggies for updates!
URL:https://dcaggies.org/event/summer-welcome-networking-event/
LOCATION:Bush School of Government and Public Service\, 1620 L St NW\, Washington\, DC\, 20003\, United States
END:VEVENT
BEGIN:VEVENT
DTSTART;TZID=UTC:20250530T060000
DTEND;TZID=UTC:20250530T200000
DTSTAMP:20260423T235556
CREATED:20250518T012204Z
LAST-MODIFIED:20250518T012204Z
UID:13076-1748584800-1748635200@dcaggies.org
SUMMARY:May Happy Hour
DESCRIPTION:
URL:https://dcaggies.org/event/may-happy-hour-2/
LOCATION:Mission Navy Yard\, 1221 Van St SE\, Washington D.C.
END:VEVENT
BEGIN:VEVENT
DTSTART;TZID=UTC:20250525T133500
DTEND;TZID=UTC:20250525T170000
DTSTAMP:20260423T235556
CREATED:20250518T012012Z
LAST-MODIFIED:20250518T012012Z
UID:13072-1748180100-1748192400@dcaggies.org
SUMMARY:Memorial Day at the Ballpark
DESCRIPTION:Purchase any ticket for the Sunday\, May 25th game vs the San Francisco Giants at mlb.com/nationals/tickets/single-game-tickets. \nMeet-up with the D.C. Aggies at the top of the ULTRA Loft. 
URL:https://dcaggies.org/event/memorial-day-at-the-ballpark/
LOCATION:Nationals Stadium Ballpark\, 1500 South Capitol Street SE\, Washington D.C.\, 20003
END:VEVENT
BEGIN:VEVENT
DTSTART;TZID=UTC:20250524T090000
DTEND;TZID=UTC:20250524T120000
DTSTAMP:20260423T235556
CREATED:20250518T011412Z
LAST-MODIFIED:20250518T011412Z
UID:13070-1748077200-1748088000@dcaggies.org
SUMMARY:Memorial Day Flag Placement at Alexandria National Cemetery
DESCRIPTION:Parking: Free in the surrounding neighborhood. \nMetro: King Street metro station is one mile away on the blue or yellow lines \nPlease meet the D.C. Aggie group at the cemetery entrance. 
URL:https://dcaggies.org/event/memorial-day-flag-placement-at-alexandria-national-cemetery/
LOCATION:Alexandria National Cemetery\, 1450 Wilkes St.\, Alexandria\, Virginia
END:VEVENT
BEGIN:VEVENT
DTSTART;TZID=UTC:20250425T080000
DTEND;TZID=UTC:20250425T170000
DTSTAMP:20260423T235556
CREATED:20250408T231538Z
LAST-MODIFIED:20250408T231538Z
UID:13065-1745568000-1745600400@dcaggies.org
SUMMARY:April Happy Hour
DESCRIPTION:
URL:https://dcaggies.org/event/april-happy-hour-2/
LOCATION:The Bottom Line\, 1716 I St. NW\, Washington D.C.
END:VEVENT
BEGIN:VEVENT
DTSTART;TZID=UTC:20250421T173000
DTEND;TZID=UTC:20250421T210000
DTSTAMP:20260423T235556
CREATED:20250408T224707Z
LAST-MODIFIED:20250413T002040Z
UID:13061-1745256600-1745269200@dcaggies.org
SUMMARY:2025 Muster Ceremony
DESCRIPTION:BUY TICKETS HERE! \n**UPDATE: Beat traffic by entering behind the main building via the access road off Carlisle Dr! \nJoin us in the time-honored tradition of Aggie Muster. Muster is a dedicated time to honor the Spirit that ties us together and fellow Aggies that have come before us to pave the way. Muster is a time for celebration and remembrance and we look forward to hosting you this April at our largest event of the year! \nDoors open at 5:30pm\, Dinner will be served at 6pm! \nIf you have a name for the Roll Call\, please send an email to dcaggiemuster@gmail.com or visit https://www.aggienetwork.com/muster/rollcall/ \nMeet this year’s Muster Speaker: Joni Taylor\nJoni Taylor is the Head Coach for the Texas A&M Women’s Basketball Team. She served as the Assistant Coach for the 2024 USA Basketball Women’s National Team\, and was awarded the 2021 SEC Coach of the Year. \nSee her official A&M Bio Here:https://12thman.com/staff-directory/joni-taylor/2021 \n\n\n\nLocation\nGeorge Washington Masonic National Memorial\, 22301
URL:https://dcaggies.org/event/2025-muster-ceremony/
LOCATION:George Washington Masonic National Memorial\, 101 Callahan Dr\, Alexandria\, VA\, 22301\, United States
END:VEVENT
BEGIN:VEVENT
DTSTART;TZID=UTC:20250419T093000
DTEND;TZID=UTC:20250419T120000
DTSTAMP:20260423T235556
CREATED:20250408T230356Z
LAST-MODIFIED:20250408T230356Z
UID:13063-1745055000-1745064000@dcaggies.org
SUMMARY:Aggies at Arlington
DESCRIPTION:
URL:https://dcaggies.org/event/aggies-at-arlington-2/
LOCATION:Arlington National Cemetery\, Arlington National Cemetery\, Arlington\, VA\, 22211\, United States
END:VEVENT
BEGIN:VEVENT
DTSTART;TZID=UTC:20250412T080000
DTEND;TZID=UTC:20250412T190000
DTSTAMP:20260423T235556
CREATED:20250331T160425Z
LAST-MODIFIED:20250331T160425Z
UID:13057-1744444800-1744484400@dcaggies.org
SUMMARY:USS George H.W. Bush Carrier Tour
DESCRIPTION:Learn More & RSVP \nDeadline to register is Thursday\, April 9th at 11:59pm! \nCome on out for a day trip with DC Aggies to tour the USS George H.W. Bush at Naval Station Norfolk\, VA! We’re taking a bus from D.C. to Redwood Smoke Shack (One of the Best Texas BBQ Joints outside the state of Texas)\, after BBQ we will head to base for the tour\, and then return back to D.C. \nItinerary:\n8:00am Bus departs from 880 Army Navy Dr. parking lot\n11:00am Arrive at Redwood Smoke Shack (or you can get lunch elsewhere nearby)\n1:00pm Arrive at Naval Station Norfolk\n3:00pm Board bus to return home\n7:00pm Arrive at 880 Army Navy Dr. parking lot \nPricing: Click “Buy Tickets” to see pricing and packages. We have two options: Tour with BBQ and Tour without! \nIn order to get on base you will have to provide additional information for a background check. A Club officer will call you after you purchase tickets to obtain the additional information required.
URL:https://dcaggies.org/event/uss-george-h-w-bush-carrier-tour/
END:VEVENT
BEGIN:VEVENT
DTSTART;TZID=UTC:20250328T180000
DTEND;TZID=UTC:20250328T200000
DTSTAMP:20260423T235556
CREATED:20250223T053605Z
LAST-MODIFIED:20250223T053622Z
UID:13044-1743184800-1743192000@dcaggies.org
SUMMARY:March Happy Hour
DESCRIPTION:Location TBD.
URL:https://dcaggies.org/event/march-happy-hour-2/
END:VEVENT
BEGIN:VEVENT
DTSTART;TZID=UTC:20250302T170000
DTEND;TZID=UTC:20250302T193000
DTSTAMP:20260423T235556
CREATED:20250223T053445Z
LAST-MODIFIED:20250223T053445Z
UID:13041-1740934800-1740943800@dcaggies.org
SUMMARY:Mays Business School MS-Finance Alumni Mixer
DESCRIPTION:All Aggies welcome. Hors d’oeuvres included.
URL:https://dcaggies.org/event/mays-business-school-ms-finance-alumni-mixer/
LOCATION:The Rooftop at the Graham\, 1075 Thomas Jefferson St. NW\, Washington D.C.\, 20007
END:VEVENT
BEGIN:VEVENT
DTSTART;TZID=UTC:20250228T193000
DTEND;TZID=UTC:20250228T210000
DTSTAMP:20260423T235556
CREATED:20250223T053910Z
LAST-MODIFIED:20250223T053910Z
UID:13047-1740771000-1740776400@dcaggies.org
SUMMARY:Aaron Watson "Buy the World a Round Tour" with Jovi Greene
DESCRIPTION:Not affiliated with D.C. Aggies. 
URL:https://dcaggies.org/event/aaron-watson-buy-the-world-a-round-tour-with-jovi-greene/
LOCATION:The Birchmere Music Hall\, 3701 Mount Vernon Ave.\, Alexandria\, Virginia
END:VEVENT
BEGIN:VEVENT
DTSTART;TZID=UTC:20250206T183000
DTEND;TZID=UTC:20250206T193000
DTSTAMP:20260423T235556
CREATED:20250202T004116Z
LAST-MODIFIED:20250202T004116Z
UID:13029-1738866600-1738870200@dcaggies.org
SUMMARY:Hill Staff Happy Hour
DESCRIPTION:
URL:https://dcaggies.org/event/hill-staff-happy-hour/
LOCATION:Mission Navy Yard\, 1221 Van St SE\, Washington D.C.
END:VEVENT
BEGIN:VEVENT
DTSTART;TZID=UTC:20250205T170000
DTEND;TZID=UTC:20250205T180000
DTSTAMP:20260423T235556
CREATED:20250202T004344Z
LAST-MODIFIED:20250202T004344Z
UID:13033-1738774800-1738778400@dcaggies.org
SUMMARY:A Fireside Chat with Oleksandra Matviichuk
DESCRIPTION:Register
URL:https://dcaggies.org/event/a-fireside-chat-with-oleksandra-matviichuk/
LOCATION:Bush School of Government and Public Service\, 1620 L St NW\, Washington\, DC\, 20003\, United States
END:VEVENT
BEGIN:VEVENT
DTSTART;TZID=UTC:20250131T180000
DTEND;TZID=UTC:20250131T190000
DTSTAMP:20260423T235556
CREATED:20250202T003832Z
LAST-MODIFIED:20250202T003832Z
UID:13027-1738346400-1738350000@dcaggies.org
SUMMARY:January Happy Hour
DESCRIPTION:
URL:https://dcaggies.org/event/january-happy-hour/
LOCATION:Atlas Brew Works\, 1201 Half St Ste 120\, Washington\, DC\, 200003\, United States
END:VEVENT
BEGIN:VEVENT
DTSTART;TZID=UTC:20241214T000000
DTEND;TZID=UTC:20241214T235959
DTSTAMP:20260423T235556
CREATED:20241207T234348Z
LAST-MODIFIED:20241207T234348Z
UID:13016-1734134400-1734220799@dcaggies.org
SUMMARY:Wreaths Across America Wreath Laying
DESCRIPTION:Howdy Ags! Join DC Aggies and Wreaths Across America on Saturday\, December 14th at Alexandria National Cemetery. (Not Arlington National Cemetery!) \nWe will be laying wreaths on all graves along with other local organizations in remembrance this holiday season. DC Aggies will also be hosting a hot chocolate and coffee station. \nWe recommend arriving a little early to grab a place in line and a warm drink. \nLearn More \n \n 
URL:https://dcaggies.org/event/wreaths-across-america-wreath-laying/
LOCATION:Alexandria National Cemetery\, 1450 Wilkes St.\, Alexandria\, Virginia
END:VEVENT
BEGIN:VEVENT
DTSTART;TZID=UTC:20241130T000000
DTEND;TZID=UTC:20241130T235959
DTSTAMP:20260423T235556
CREATED:20240811T164036Z
LAST-MODIFIED:20240811T164036Z
UID:12994-1732924800-1733011199@dcaggies.org
SUMMARY:Texas A&M vs Texas Football Watch Party
DESCRIPTION:Kick-off time to be announced.  \nD.C. Location \nDeath Punch \n2321 18th St. \nWashington\, D.C. 20009 \nNorthern Virginia Location \nHighline RxR \n2010 Crystal Dr. \nArlington\, VA 22202
URL:https://dcaggies.org/event/texas-am-vs-texas-football-watch-party/
END:VEVENT
BEGIN:VEVENT
DTSTART;TZID=UTC:20241123T000000
DTEND;TZID=UTC:20241123T235959
DTSTAMP:20260423T235556
CREATED:20240811T163924Z
LAST-MODIFIED:20240811T163924Z
UID:12992-1732320000-1732406399@dcaggies.org
SUMMARY:Texas A&M @ Auburn Football Watch Party
DESCRIPTION:Kick-off time to be announced.  \nD.C. Location \nDeath Punch \n2321 18th St. \nWashington\, D.C. 20009 \nNorthern Virginia Location \nHighline RxR \n2010 Crystal Dr. \nArlington\, VA 22202
URL:https://dcaggies.org/event/texas-am-auburn-football-watch-party/
END:VEVENT
BEGIN:VEVENT
DTSTART;TZID=UTC:20241116T193000
DTEND;TZID=UTC:20241116T213000
DTSTAMP:20260423T235556
CREATED:20240811T163813Z
LAST-MODIFIED:20240911T213921Z
UID:12990-1731785400-1731792600@dcaggies.org
SUMMARY:Texas A&M vs New Mexico State Football Watch Party
DESCRIPTION:D.C. Location \nDeath Punch \n2321 18th St. \nWashington\, D.C. 20009 \nNorthern Virginia Location \nHighline RxR \n2010 Crystal Dr. \nArlington\, VA 22202
URL:https://dcaggies.org/event/texas-am-vs-new-mexico-state-football-watch-party/
END:VEVENT
END:VCALENDAR