BEGIN:VCALENDAR
VERSION:2.0
PRODID:-//NATIONAL CAPITAL TEXAS A&amp;M CLUB - ECPv6.15.20//NONSGML v1.0//EN
CALSCALE:GREGORIAN
METHOD:PUBLISH
X-WR-CALNAME:NATIONAL CAPITAL TEXAS A&amp;M CLUB
X-ORIGINAL-URL:https://dcaggies.org
X-WR-CALDESC:Events for NATIONAL CAPITAL TEXAS A&amp;M CLUB
REFRESH-INTERVAL;VALUE=DURATION:PT1H
X-Robots-Tag:noindex
X-PUBLISHED-TTL:PT1H
BEGIN:VTIMEZONE
TZID:UTC
BEGIN:STANDARD
TZOFFSETFROM:+0000
TZOFFSETTO:+0000
TZNAME:UTC
DTSTART:20230101T000000
END:STANDARD
END:VTIMEZONE
BEGIN:VEVENT
DTSTART;TZID=UTC:20241116T193000
DTEND;TZID=UTC:20241116T213000
DTSTAMP:20260423T235928
CREATED:20240811T163813Z
LAST-MODIFIED:20240911T213921Z
UID:12990-1731785400-1731792600@dcaggies.org
SUMMARY:Texas A&M vs New Mexico State Football Watch Party
DESCRIPTION:D.C. Location \nDeath Punch \n2321 18th St. \nWashington\, D.C. 20009 \nNorthern Virginia Location \nHighline RxR \n2010 Crystal Dr. \nArlington\, VA 22202
URL:https://dcaggies.org/event/texas-am-vs-new-mexico-state-football-watch-party/
LOCATION:DC
END:VEVENT
BEGIN:VEVENT
DTSTART;TZID=UTC:20241112T080000
DTEND;TZID=UTC:20241112T090000
DTSTAMP:20260423T235928
CREATED:20241102T233452Z
LAST-MODIFIED:20241102T233452Z
UID:13014-1731398400-1731402000@dcaggies.org
SUMMARY:Fall Networking Breakfast
DESCRIPTION:Howdy Ags! \nWe are hosting our Fall 2024 DC Aggies Networking Breakfast in collaboration with the Bush School of Government & Public Service located in Washington\, DC. This will be a great opportunity to socialize\, network and meet fellow Ags in the area! \nWe are honored that The Bush School will\, once again\, host our fall breakfast and and look forward to seeing new faces at our breakfast!  In addition\, the DC Aggie Leadership team is looking forward to sharing more information about who we are and how YOU can get involved!  This event has limited seats\, so reserve your spot today! \nEvent Date and Time:\nTuesday\, November 12\, 2024\n8:00 am – 9:00 am \nEvent Location:\nThe Bush School of Government & Public Service\n1620 L Street NW\nWashington\, DC 22036 \nScan the QR code for  information on parking: \n \nFor questions or event information\, please email Johnson.Ashyia@gmail.com.\n*Attire is business casual and a continental breakfast will be available. This event is free of charge.
URL:https://dcaggies.org/event/fall-networking-breakfast/
LOCATION:Bush School of Government and Public Service\, 1620 L St NW\, Washington\, DC\, 20003\, United States
END:VEVENT
BEGIN:VEVENT
DTSTART;TZID=UTC:20241102T000000
DTEND;TZID=UTC:20241102T235959
DTSTAMP:20260423T235928
CREATED:20240811T163656Z
LAST-MODIFIED:20240811T163656Z
UID:12988-1730505600-1730591999@dcaggies.org
SUMMARY:Texas A&M @ South Carolina Football Watch Party
DESCRIPTION:Kick-off time to be announced.  \nD.C. Location \nDeath Punch \n2321 18th St. \nWashington\, D.C. 20009 \nNorthern Virginia Location \nHighline RxR \n2010 Crystal Dr. \nArlington\, VA 22202
URL:https://dcaggies.org/event/texas-am-south-carolina-football-watch-party/
LOCATION:DC
END:VEVENT
BEGIN:VEVENT
DTSTART;TZID=UTC:20241026T000000
DTEND;TZID=UTC:20241026T235959
DTSTAMP:20260423T235928
CREATED:20240811T163517Z
LAST-MODIFIED:20240811T163517Z
UID:12986-1729900800-1729987199@dcaggies.org
SUMMARY:Texas A&M vs LSU Football Watch Party
DESCRIPTION:Kick-off time to be announced.  \nD.C. Location \nDeath Punch \n2321 18th St. \nWashington\, D.C. 20009 \nNorthern Virginia Location \nHighline RxR \n2010 Crystal Dr. \nArlington\, VA 22202
URL:https://dcaggies.org/event/texas-am-vs-lsu-football-watch-party/
LOCATION:DC
END:VEVENT
BEGIN:VEVENT
DTSTART;TZID=UTC:20241025T180000
DTEND;TZID=UTC:20241025T200000
DTSTAMP:20260423T235928
CREATED:20240330T233632Z
LAST-MODIFIED:20240330T233632Z
UID:12918-1729879200-1729886400@dcaggies.org
SUMMARY:October Happy Hour
DESCRIPTION:
URL:https://dcaggies.org/event/october-happy-hour/
LOCATION:Cotton & Reed\, 1330 5th St. NE\, Washington\, DC\, 20002
END:VEVENT
BEGIN:VEVENT
DTSTART;TZID=UTC:20241019T000000
DTEND;TZID=UTC:20241019T235959
DTSTAMP:20260423T235928
CREATED:20240811T163339Z
LAST-MODIFIED:20240811T163339Z
UID:12984-1729296000-1729382399@dcaggies.org
SUMMARY:Texas A&M @ Mississippi State Football Watch Party
DESCRIPTION:Kick-off time to be announced.  \nD.C. Location \nDeath Punch \n2321 18th St. \nWashington\, D.C. 20009 \nNorthern Virginia Location \nHighline RxR \n2010 Crystal Dr. \nArlington\, VA 22202
URL:https://dcaggies.org/event/texas-am-mississippi-state-football-watch-party/
LOCATION:DC
END:VEVENT
BEGIN:VEVENT
DTSTART;TZID=UTC:20241012T000000
DTEND;TZID=UTC:20241012T235959
DTSTAMP:20260423T235928
CREATED:20240421T152852Z
LAST-MODIFIED:20241102T233323Z
UID:12948-1728691200-1728777599@dcaggies.org
SUMMARY:CANCELLED -Fall Winery Trip
DESCRIPTION:
URL:https://dcaggies.org/event/fall-winery-trip/
LOCATION:DC
END:VEVENT
BEGIN:VEVENT
DTSTART;TZID=UTC:20241005T120000
DTEND;TZID=UTC:20241005T140000
DTSTAMP:20260423T235928
CREATED:20240811T163209Z
LAST-MODIFIED:20240911T213821Z
UID:12982-1728129600-1728136800@dcaggies.org
SUMMARY:Texas A&M vs Missouri Football Watch Party
DESCRIPTION:D.C. Location \nDeath Punch \n2321 18th St. \nWashington\, D.C. 20009 \nNorthern Virginia Location \nHighline RxR \n2010 Crystal Dr. \nArlington\, VA 22202
URL:https://dcaggies.org/event/texas-am-vs-missouri-football-watch-party/
LOCATION:DC
END:VEVENT
BEGIN:VEVENT
DTSTART;TZID=UTC:20241003T080000
DTEND;TZID=UTC:20241003T170000
DTSTAMP:20260423T235928
CREATED:20241003T011606Z
LAST-MODIFIED:20241003T011606Z
UID:13010-1727942400-1727974800@dcaggies.org
SUMMARY:Memorial of Captain Ron Forrester '69
DESCRIPTION:Captain Forrester’s daughter\, Ms. Karoni Forrester ‘96\, welcomes everyone who would like to pay respects to her father. \nMemorial Services Ft. Myer’s Community Activities Center at 1:30pm \nFuneral Service Arlington National Cemetery at 3:00pm \nReception Ft. Myer Patton Hall Community Club-Post-Funeral Services \nCaptain Forrester entered the U.S. Marine Corps from Texas; he was a graduate of Texas A&M University and was a member of the Marine All-Weather Attack Squadron 533\, Marine Air Group 15\, 1st Marine Air Wing. On December 27\, 1972\, he was the bombardier/navigator aboard an A-6A Intruder (bureau number 155666\, call sign “Tiny 05”) which took off from Royal Thai Air Base Nam Phong\, Khon Kaen Province\, Thailand\, carrying two crew members on a night combat mission over North Vietnam. The Intruder was last heard from when an airborne controller received a radio transmission indicating “Tiny 05” was beginning its entry into the target area. No subsequent radio contact was made\, and an aerial search conducted over the area was unsuccessful in locating the aircraft or crew. In September 1978\, the Marine Corps changed Capt Forrester’s status from Missing in Action to Killed in Action. Investigations following the incident continued for decades\, with investigators eventually discovering remains and material evidence which are believed to be associated with Capt Forrester and the other aviator in the area of the crash site.
URL:https://dcaggies.org/event/memorial-of-captain-ron-forrester-69/
LOCATION:DC
END:VEVENT
BEGIN:VEVENT
DTSTART;TZID=UTC:20240928T000000
DTEND;TZID=UTC:20240928T235959
DTSTAMP:20260423T235928
CREATED:20240811T163049Z
LAST-MODIFIED:20240811T163049Z
UID:12980-1727481600-1727567999@dcaggies.org
SUMMARY:Texas A&M vs Arkansas Football Watch Party
DESCRIPTION:Kick-off time to be announced.  \nD.C. Location \nDeath Punch \n2321 18th St. \nWashington\, D.C. 20009 \nNorthern Virginia Location \nHighline RxR \n2010 Crystal Dr. \nArlington\, VA 22202
URL:https://dcaggies.org/event/texas-am-vs-arkansas-football-watch-party/
LOCATION:DC
END:VEVENT
BEGIN:VEVENT
DTSTART;TZID=UTC:20240927T180000
DTEND;TZID=UTC:20240927T200000
DTSTAMP:20260423T235928
CREATED:20240330T233458Z
LAST-MODIFIED:20240330T233458Z
UID:12914-1727460000-1727467200@dcaggies.org
SUMMARY:September Happy Hour
DESCRIPTION:
URL:https://dcaggies.org/event/september-happy-hour/
LOCATION:Other Half Brewing\, 1401 Okie St. NE\, Washington\, DC\, 20002
END:VEVENT
BEGIN:VEVENT
DTSTART;TZID=UTC:20240921T193000
DTEND;TZID=UTC:20240921T213000
DTSTAMP:20260423T235928
CREATED:20240811T162909Z
LAST-MODIFIED:20240911T213755Z
UID:12978-1726947000-1726954200@dcaggies.org
SUMMARY:Texas A&M vs Bowling Green Football Watch Party
DESCRIPTION:D.C. Location \nDeath Punch \n2321 18th St. \nWashington\, D.C. 20009 \nNorthern Virginia Location \nHighline RxR \n2010 Crystal Dr. \nArlington\, VA 22202
URL:https://dcaggies.org/event/texas-am-vs-bowling-green-football-watch-party/
LOCATION:DC
END:VEVENT
BEGIN:VEVENT
DTSTART;TZID=UTC:20240914T153000
DTEND;TZID=UTC:20240914T173000
DTSTAMP:20260423T235928
CREATED:20240811T162657Z
LAST-MODIFIED:20240911T213722Z
UID:12976-1726327800-1726335000@dcaggies.org
SUMMARY:Texas A&M @ Florida Football Watch Party
DESCRIPTION:D.C. Location \nDeath Punch \n2321 18th St. \nWashington\, D.C. 20009 \nNorthern Virginia Location \nHighline RxR \n2010 Crystal Dr. \nArlington\, VA 22202
URL:https://dcaggies.org/event/texas-am-florida-football-watch-party/
LOCATION:DC
END:VEVENT
BEGIN:VEVENT
DTSTART;TZID=UTC:20240907T113000
DTEND;TZID=UTC:20240907T133000
DTSTAMP:20260423T235928
CREATED:20240811T162600Z
LAST-MODIFIED:20240811T162600Z
UID:12974-1725708600-1725715800@dcaggies.org
SUMMARY:Texas A&M vs McNeese Football Watch Party
DESCRIPTION:D.C. Location \nDeath Punch \n2321 18th St. \nWashington\, D.C. 20009 \nNorthern Virginia Location \nHighline RxR \n2010 Crystal Dr. \nArlington\, VA 22202
URL:https://dcaggies.org/event/texas-am-vs-mcneese-football-watch-party/
LOCATION:DC
END:VEVENT
BEGIN:VEVENT
DTSTART;TZID=UTC:20240831T183000
DTEND;TZID=UTC:20240831T203000
DTSTAMP:20260423T235928
CREATED:20240811T162431Z
LAST-MODIFIED:20240811T162431Z
UID:12972-1725129000-1725136200@dcaggies.org
SUMMARY:Texas A&M vs Notre Dame Football Watch Party
DESCRIPTION:Join us for the first football game of the season! We will be joined by the Notre Dame Club of Washington D.C. at our Washington\, D.C. location\, Death Punch. \nD.C. Location \nDeath Punch \n2321 18th St. \nWashington\, D.C. 20009 \nNorthern Virginia Location \nHighline RxR \n2010 Crystal Dr. \nArlington\, VA 22202
URL:https://dcaggies.org/event/texas-am-vs-notre-dame-football-watch-party/
LOCATION:DC
END:VEVENT
BEGIN:VEVENT
DTSTART;TZID=UTC:20240830T180000
DTEND;TZID=UTC:20240830T200000
DTSTAMP:20260423T235928
CREATED:20240330T233243Z
LAST-MODIFIED:20240820T232408Z
UID:12910-1725040800-1725048000@dcaggies.org
SUMMARY:CANCELLED: August Happy Hour
DESCRIPTION:Cancelled in lieu of SEC Tailgate. See you there!
URL:https://dcaggies.org/event/august-happy-hour/
LOCATION:DC
END:VEVENT
BEGIN:VEVENT
DTSTART;TZID=UTC:20240830T173000
DTEND;TZID=UTC:20240830T193000
DTSTAMP:20260423T235928
CREATED:20240822T141356Z
LAST-MODIFIED:20240822T141356Z
UID:13005-1725039000-1725046200@dcaggies.org
SUMMARY:2024 SEC Kick-Off Tailgate
DESCRIPTION:We will be joining fellow National Capital-area SEC schools at this year’s South Eastern Conference Kick-Off Tailgate! Come on out and get ready for football season!
URL:https://dcaggies.org/event/2024-sec-kick-off-tailgate/
LOCATION:Franklin Hall\, 1348 Florida Ave. NW\, Washington\, DC\, 20009
END:VEVENT
BEGIN:VEVENT
DTSTART;TZID=UTC:20240726T180000
DTEND;TZID=UTC:20240726T200000
DTSTAMP:20260423T235928
CREATED:20240330T233012Z
LAST-MODIFIED:20240330T233012Z
UID:12906-1722016800-1722024000@dcaggies.org
SUMMARY:July Happy Hour
DESCRIPTION:
URL:https://dcaggies.org/event/july-happy-hour/
LOCATION:Tiki On 18th\, 2411 18th St. NW\, Washington\, DC\, 20009
END:VEVENT
BEGIN:VEVENT
DTSTART;TZID=UTC:20240720T000000
DTEND;TZID=UTC:20240720T235959
DTSTAMP:20260423T235928
CREATED:20240421T153007Z
LAST-MODIFIED:20240626T024816Z
UID:12950-1721433600-1721519999@dcaggies.org
SUMMARY:Summer Float Trip
DESCRIPTION:Our annual Summer Float Trip will be held on Saturday\, July 20th at Front Royal Outdoors! Deadline to RSVP is Midnight\, July 15th. \nJoin us at Front Royal at 10:30am or take our charted bus from Pentagon City (880 Army Navy Drive\, Arlington\, VA) at 9:00am. \nClick here to learn more and RSVP!  \n \n 
URL:https://dcaggies.org/event/summer-tubing-trip/
LOCATION:DC
END:VEVENT
BEGIN:VEVENT
DTSTART;TZID=UTC:20240706T170000
DTEND;TZID=UTC:20240706T190000
DTSTAMP:20260423T235928
CREATED:20240604T010527Z
LAST-MODIFIED:20240703T202647Z
UID:12958-1720285200-1720292400@dcaggies.org
SUMMARY:BBQ Social
DESCRIPTION:UPDATE: Meet-up with the club at Picnic Area E at Fort Hunt Park\, look for the Aggie flag when you arrive. We recommend bringing a lawn chair if you have one! \nDC Aggies will be hosting our 2024 Summer BBQ Social on July 6th at Fort Hunt Park! Come out and enjoy food and summer fun with the club! \nTickets are $10 or free to those that bring a covered dish. See our sign-up form to bring a dish!
URL:https://dcaggies.org/event/bbq-social/
LOCATION:Fort Hunt Park\, 8999 Fort Hunt Rd.\, Alexandria\, Virginia\, 22308
END:VEVENT
BEGIN:VEVENT
DTSTART;TZID=UTC:20240628T180000
DTEND;TZID=UTC:20240628T200000
DTSTAMP:20260423T235928
CREATED:20240330T232833Z
LAST-MODIFIED:20240626T025135Z
UID:12902-1719597600-1719604800@dcaggies.org
SUMMARY:June Happy Hour
DESCRIPTION:
URL:https://dcaggies.org/event/june-happy-hour/
LOCATION:Town Tavern DC\, 2323 18th St. NW\, Washington\, DC\, 20009
END:VEVENT
BEGIN:VEVENT
DTSTART;TZID=UTC:20240620T183000
DTEND;TZID=UTC:20240620T203000
DTSTAMP:20260423T235928
CREATED:20240604T010122Z
LAST-MODIFIED:20240605T030059Z
UID:12955-1718908200-1718915400@dcaggies.org
SUMMARY:Summer Networking Event
DESCRIPTION:Join us for an evening of networking with fellow local Aggies– current students and interns\, plus new arrivals are welcome! Please arrive at the ground floor lobby\, you will be guided to the correct floor by Bush School staff.
URL:https://dcaggies.org/event/summer-networking-event/
LOCATION:Bush School of Government and Public Service\, 1620 L St NW\, Washington\, DC\, 20003\, United States
END:VEVENT
BEGIN:VEVENT
DTSTART;TZID=UTC:20240531T180000
DTEND;TZID=UTC:20240531T200000
DTSTAMP:20260423T235928
CREATED:20240330T232325Z
LAST-MODIFIED:20240330T232325Z
UID:12898-1717178400-1717185600@dcaggies.org
SUMMARY:May Happy Hour
DESCRIPTION:
URL:https://dcaggies.org/event/may-happy-hour/
LOCATION:Death Punch Bar\, 2321 18th St. NW\, Washington\, DC\, 20009
END:VEVENT
BEGIN:VEVENT
DTSTART;TZID=UTC:20240511T000000
DTEND;TZID=UTC:20240511T235959
DTSTAMP:20260423T235928
CREATED:20240421T152244Z
LAST-MODIFIED:20240421T152406Z
UID:12942-1715385600-1715471999@dcaggies.org
SUMMARY:Casual Golf Outing
DESCRIPTION:Join DC Aggies for a Casual Golf Outing on May 11th at Langston Golf Course. \nDetails subject to change\, more information coming soon!
URL:https://dcaggies.org/event/casual-golf/
LOCATION:Langston Golf Course & Driving Range\, 2600 Benning Rd. NE\, Washington\, DC\, 20002
END:VEVENT
BEGIN:VEVENT
DTSTART;TZID=UTC:20240508T080000
DTEND;TZID=UTC:20240508T090000
DTSTAMP:20260423T235928
CREATED:20240421T152709Z
LAST-MODIFIED:20240421T152709Z
UID:12946-1715155200-1715158800@dcaggies.org
SUMMARY:Spring Networking Breakfast
DESCRIPTION:Join us for our Spring Networking Breakfast at the Bush School of Government and Public Service-Washington Campus. \nWe will be offering a light breakfast and this event is limited to 30 attendees. Check back soon for sign-up information!
URL:https://dcaggies.org/event/spring-networking-breakfast/
LOCATION:Bush School of Government and Public Service\, 1620 L St NW\, Washington\, DC\, 20003\, United States
END:VEVENT
BEGIN:VEVENT
DTSTART;TZID=UTC:20240501T180000
DTEND;TZID=UTC:20240501T200000
DTSTAMP:20260423T235928
CREATED:20240427T213216Z
LAST-MODIFIED:20240427T213216Z
UID:12952-1714586400-1714593600@dcaggies.org
SUMMARY:Master of Engineering Technical Management Informational Dinner
DESCRIPTION:Join the College of Engineering for an evening informational dinner covering their online master’s degree in Technical Management. \nClick here to RSVP.
URL:https://dcaggies.org/event/master-of-engineering-technical-management-informational-dinner/
LOCATION:Bush School of Government and Public Service\, 1620 L St NW\, Washington\, DC\, 20003\, United States
END:VEVENT
BEGIN:VEVENT
DTSTART;TZID=UTC:20240426T180000
DTEND;TZID=UTC:20240426T200000
DTSTAMP:20260423T235928
CREATED:20240330T232101Z
LAST-MODIFIED:20240330T232101Z
UID:12894-1714154400-1714161600@dcaggies.org
SUMMARY:April Happy Hour
DESCRIPTION:
URL:https://dcaggies.org/event/april-happy-hour/
LOCATION:Walter’s Sports Bar & Restaurant\, 10 N St. SE\, Washington\, DC\, 20003
END:VEVENT
BEGIN:VEVENT
DTSTART;TZID=UTC:20240421T170000
DTEND;TZID=UTC:20240421T210000
DTSTAMP:20260423T235928
CREATED:20240421T151710Z
LAST-MODIFIED:20240421T151817Z
UID:12938-1713718800-1713733200@dcaggies.org
SUMMARY:2024 Muster Ceremony
DESCRIPTION:Tickets are still available! Click here to purchase. 
URL:https://dcaggies.org/event/2024-muster-ceremony/
LOCATION:George Washington Masonic National Memorial\, 101 Callahan Dr\, Alexandria\, VA\, 22301\, United States
END:VEVENT
BEGIN:VEVENT
DTSTART;TZID=UTC:20240413T180000
DTEND;TZID=UTC:20240413T200000
DTSTAMP:20260423T235928
CREATED:20240331T000059Z
LAST-MODIFIED:20240331T000355Z
UID:12922-1713031200-1713038400@dcaggies.org
SUMMARY:Happy Hour with Traveling Aggies
DESCRIPTION:DC Aggies is very proud to have the opportunity to give Traveling Aggies a warm Aggie welcome to the District on Saturday\, April 13th. Visiting from Texas to see the world famous cherry blossoms\, Traveling Aggies will be in town for one week and we invite you to come out and say hello!
URL:https://dcaggies.org/event/happy-hour-with-travelling-aggies/
LOCATION:Gaylord National Harbor-Belvedere Lobby Bar\, 201 Waterfront St.\, Oxon Hill\, Maryland\, 20745
END:VEVENT
BEGIN:VEVENT
DTSTART;TZID=UTC:20240329T180000
DTEND;TZID=UTC:20240329T200000
DTSTAMP:20260423T235928
CREATED:20240310T215200Z
LAST-MODIFIED:20240310T215200Z
UID:12829-1711735200-1711742400@dcaggies.org
SUMMARY:March Happy Hour
DESCRIPTION:Join fellow DC Aggies for Friday fun at 6pm at Royal Sands Social Club.
URL:https://dcaggies.org/event/march-happy-hour/
LOCATION:Royal Sands Social Club\, 26 N St. SE\, Washington\, DC\, 20003
END:VEVENT
END:VCALENDAR