BEGIN:VCALENDAR
VERSION:2.0
PRODID:-//NATIONAL CAPITAL TEXAS A&amp;M CLUB - ECPv6.15.20//NONSGML v1.0//EN
CALSCALE:GREGORIAN
METHOD:PUBLISH
X-WR-CALNAME:NATIONAL CAPITAL TEXAS A&amp;M CLUB
X-ORIGINAL-URL:https://dcaggies.org
X-WR-CALDESC:Events for NATIONAL CAPITAL TEXAS A&amp;M CLUB
REFRESH-INTERVAL;VALUE=DURATION:PT1H
X-Robots-Tag:noindex
X-PUBLISHED-TTL:PT1H
BEGIN:VTIMEZONE
TZID:UTC
BEGIN:STANDARD
TZOFFSETFROM:+0000
TZOFFSETTO:+0000
TZNAME:UTC
DTSTART:20240101T000000
END:STANDARD
END:VTIMEZONE
BEGIN:VEVENT
DTSTART;TZID=UTC:20251105T000000
DTEND;TZID=UTC:20251105T235959
DTSTAMP:20260423T233816
CREATED:20250608T183815Z
LAST-MODIFIED:20250608T183815Z
UID:13094-1762300800-1762387199@dcaggies.org
SUMMARY:November Hill Staff Happy Hour
DESCRIPTION:Save the date! Time and location information to come.
URL:https://dcaggies.org/event/november-hill-staff-happy-hour/
END:VEVENT
BEGIN:VEVENT
DTSTART;TZID=UTC:20251108T000000
DTEND;TZID=UTC:20251108T235959
DTSTAMP:20260423T233816
CREATED:20250819T232853Z
LAST-MODIFIED:20250913T204437Z
UID:13140-1762560000-1762646399@dcaggies.org
SUMMARY:TAMU at Missouri Watch Party (Veteran Appreciation Night)
DESCRIPTION:D.C. Location: Proper 21\, 1319 F St. NW\, Washington D.C. \nNorthern Virginia Location: Highline RxR\, 2010 Crystal Dr.\, Arlington\, VA \nFLEX Game
URL:https://dcaggies.org/event/tamu-at-missouri-watch-party/
END:VEVENT
BEGIN:VEVENT
DTSTART;TZID=UTC:20251115T000000
DTEND;TZID=UTC:20251115T235959
DTSTAMP:20260423T233816
CREATED:20250819T232956Z
LAST-MODIFIED:20250904T011742Z
UID:13142-1763164800-1763251199@dcaggies.org
SUMMARY:TAMU vs South Carolina Watch Party (Silent Auction & Door Prizes)
DESCRIPTION:EARLY Game
URL:https://dcaggies.org/event/tamu-vs-south-carolina-watch-party/
END:VEVENT
BEGIN:VEVENT
DTSTART;TZID=UTC:20251122T120000
DTEND;TZID=UTC:20251122T150000
DTSTAMP:20260423T233816
CREATED:20250819T233324Z
LAST-MODIFIED:20250913T204421Z
UID:13146-1763812800-1763823600@dcaggies.org
SUMMARY:TAMU vs Samford Watch Party (White Out)
DESCRIPTION:D.C. Location: Proper 21\, 1319 F St. NW\, Washington D.C. \nNorthern Virginia Location: Highline RxR\, 2010 Crystal Dr.\, Arlington\, VA \nWhite Out! Wear your best white Aggie gear. \n 
URL:https://dcaggies.org/event/tamu-vs-samford-watch-party/
END:VEVENT
BEGIN:VEVENT
DTSTART;TZID=UTC:20251128T193000
DTEND;TZID=UTC:20251128T223000
DTSTAMP:20260423T233816
CREATED:20250819T233555Z
LAST-MODIFIED:20250913T204409Z
UID:13149-1764358200-1764369000@dcaggies.org
SUMMARY:TAMU at Texas Watch Party (Rivalry Night-Maroon Out)
DESCRIPTION:D.C. Location: Proper 21\, 1319 F St. NW\, Washington D.C. \nNorthern Virginia Location: Highline RxR\, 2010 Crystal Dr.\, Arlington\, VA \nMaroon Out! Wear your best maroon Aggie gear. \n 
URL:https://dcaggies.org/event/tamu-at-texas-watch-party/
END:VEVENT
END:VCALENDAR