BEGIN:VCALENDAR
VERSION:2.0
PRODID:-//NATIONAL CAPITAL TEXAS A&amp;M CLUB - ECPv6.15.20//NONSGML v1.0//EN
CALSCALE:GREGORIAN
METHOD:PUBLISH
X-ORIGINAL-URL:https://dcaggies.org
X-WR-CALDESC:Events for NATIONAL CAPITAL TEXAS A&amp;M CLUB
REFRESH-INTERVAL;VALUE=DURATION:PT1H
X-Robots-Tag:noindex
X-PUBLISHED-TTL:PT1H
BEGIN:VTIMEZONE
TZID:UTC
BEGIN:STANDARD
TZOFFSETFROM:+0000
TZOFFSETTO:+0000
TZNAME:UTC
DTSTART:20250101T000000
END:STANDARD
END:VTIMEZONE
BEGIN:VEVENT
DTSTART;TZID=UTC:20260131T160000
DTEND;TZID=UTC:20260131T180000
DTSTAMP:20260423T202419
CREATED:20260131T141958Z
LAST-MODIFIED:20260131T141958Z
UID:13222-1769875200-1769882400@dcaggies.org
SUMMARY:DC Aggies Club Town Hall - Sat\, Jan 31; 4pm at Highline RxR
DESCRIPTION:Perhaps you are a long-time local Aggie who might be interested to see what the DC Aggies Club has planned for the year\, or a student or faculty member at the Bush School in DC who wants to learn more about being an Aggie\, or local parents of a Texas A&M student\, perhaps a newly-arrived Aggie\, or an Aggie interning in the Washington\, DC area – y’all are all welcome to join us for the 2026 Town Hall event!\n\n\nAuthentic Aggie (from CC Creations) Club t-shirts will be available for purchase. There are volunteer opportunities to assist with Aggie Muster and Aggies at Arlington\, or even find out how to serve as a Club officer or deputy.  Yes\, they offer Shiner beer too!\n\n\n\n4pm on Saturday\, January 31 at Highline RxR in Crystal City (above McCormick & Schmick’s and next to the Crystal City Metro station); free parking in the garage next door
URL:https://dcaggies.org/event/dc-aggies-club-town-hall-sat-jan-31-4pm-at-highline-rxr/
END:VEVENT
END:VCALENDAR